BEGIN:VCALENDAR
PRODID:-//AT Content Types//AT Event//EN
VERSION:2.0
METHOD:PUBLISH
BEGIN:VEVENT
DTSTAMP:20260421T085854Z
CREATED:20260113T091926Z
UID:ATEvent-9650ad8925764b2e8ee644147d630321
LAST-MODIFIED:20260115T091007Z
SUMMARY:Remise de diplôme- Promo 2025
DTSTART:20260123T170000Z
DTEND:20260123T203000Z
DESCRIPTION:REMISE DES DIPLÔMES DES PROMO 2025 /\n- BAC GENERAL\n- BA
 C PRO CGEH\n- BAC STAV\n- BTSA ACD\n- BTSA GEMEAU\n-BTSA TC
LOCATION:lycée Aux Lazaristes - La Salle -SANDAR
CLASS:PUBLIC
END:VEVENT
END:VCALENDAR
