BEGIN:VCALENDAR
PRODID:-//AT Content Types//AT Event//EN
VERSION:2.0
METHOD:PUBLISH
BEGIN:VEVENT
DTSTAMP:20260421T085619Z
CREATED:20231016T075048Z
UID:ATEvent-7bfb96bbede947698728526257fadd33
LAST-MODIFIED:20231016T075053Z
SUMMARY:Salon Studyrama
DTSTART:20240210T080000Z
DTEND:20240210T160000Z
DESCRIPTION:L'institut Sandar La Salle sera présent sur le salon Stud
 yrama pour vous faire découvrir ses formations supérieures\, voie sc
 olaire et apprentissage !
LOCATION:La Sucrière
CLASS:PUBLIC
END:VEVENT
END:VCALENDAR
